BEGIN:VCALENDAR
VERSION:2.0
PRODID:-//By Sylvie Rabou - ECPv6.15.20//NONSGML v1.0//EN
CALSCALE:GREGORIAN
METHOD:PUBLISH
X-ORIGINAL-URL:https://bysylvierabou.com
X-WR-CALDESC:Évènements pour By Sylvie Rabou
REFRESH-INTERVAL;VALUE=DURATION:PT1H
X-Robots-Tag:noindex
X-PUBLISHED-TTL:PT1H
BEGIN:VTIMEZONE
TZID:Europe/Paris
BEGIN:DAYLIGHT
TZOFFSETFROM:+0100
TZOFFSETTO:+0200
TZNAME:CEST
DTSTART:20120325T010000
END:DAYLIGHT
BEGIN:STANDARD
TZOFFSETFROM:+0200
TZOFFSETTO:+0100
TZNAME:CET
DTSTART:20121028T010000
END:STANDARD
BEGIN:DAYLIGHT
TZOFFSETFROM:+0100
TZOFFSETTO:+0200
TZNAME:CEST
DTSTART:20130331T010000
END:DAYLIGHT
BEGIN:STANDARD
TZOFFSETFROM:+0200
TZOFFSETTO:+0100
TZNAME:CET
DTSTART:20131027T010000
END:STANDARD
BEGIN:DAYLIGHT
TZOFFSETFROM:+0100
TZOFFSETTO:+0200
TZNAME:CEST
DTSTART:20140330T010000
END:DAYLIGHT
BEGIN:STANDARD
TZOFFSETFROM:+0200
TZOFFSETTO:+0100
TZNAME:CET
DTSTART:20141026T010000
END:STANDARD
BEGIN:DAYLIGHT
TZOFFSETFROM:+0100
TZOFFSETTO:+0200
TZNAME:CEST
DTSTART:20150329T010000
END:DAYLIGHT
BEGIN:STANDARD
TZOFFSETFROM:+0200
TZOFFSETTO:+0100
TZNAME:CET
DTSTART:20151025T010000
END:STANDARD
BEGIN:DAYLIGHT
TZOFFSETFROM:+0100
TZOFFSETTO:+0200
TZNAME:CEST
DTSTART:20160327T010000
END:DAYLIGHT
BEGIN:STANDARD
TZOFFSETFROM:+0200
TZOFFSETTO:+0100
TZNAME:CET
DTSTART:20161030T010000
END:STANDARD
BEGIN:DAYLIGHT
TZOFFSETFROM:+0100
TZOFFSETTO:+0200
TZNAME:CEST
DTSTART:20170326T010000
END:DAYLIGHT
BEGIN:STANDARD
TZOFFSETFROM:+0200
TZOFFSETTO:+0100
TZNAME:CET
DTSTART:20171029T010000
END:STANDARD
BEGIN:DAYLIGHT
TZOFFSETFROM:+0100
TZOFFSETTO:+0200
TZNAME:CEST
DTSTART:20180325T010000
END:DAYLIGHT
BEGIN:STANDARD
TZOFFSETFROM:+0200
TZOFFSETTO:+0100
TZNAME:CET
DTSTART:20181028T010000
END:STANDARD
BEGIN:DAYLIGHT
TZOFFSETFROM:+0100
TZOFFSETTO:+0200
TZNAME:CEST
DTSTART:20190331T010000
END:DAYLIGHT
BEGIN:STANDARD
TZOFFSETFROM:+0200
TZOFFSETTO:+0100
TZNAME:CET
DTSTART:20191027T010000
END:STANDARD
BEGIN:DAYLIGHT
TZOFFSETFROM:+0100
TZOFFSETTO:+0200
TZNAME:CEST
DTSTART:20200329T010000
END:DAYLIGHT
BEGIN:STANDARD
TZOFFSETFROM:+0200
TZOFFSETTO:+0100
TZNAME:CET
DTSTART:20201025T010000
END:STANDARD
BEGIN:DAYLIGHT
TZOFFSETFROM:+0100
TZOFFSETTO:+0200
TZNAME:CEST
DTSTART:20210328T010000
END:DAYLIGHT
BEGIN:STANDARD
TZOFFSETFROM:+0200
TZOFFSETTO:+0100
TZNAME:CET
DTSTART:20211031T010000
END:STANDARD
BEGIN:DAYLIGHT
TZOFFSETFROM:+0100
TZOFFSETTO:+0200
TZNAME:CEST
DTSTART:20220327T010000
END:DAYLIGHT
BEGIN:STANDARD
TZOFFSETFROM:+0200
TZOFFSETTO:+0100
TZNAME:CET
DTSTART:20221030T010000
END:STANDARD
BEGIN:DAYLIGHT
TZOFFSETFROM:+0100
TZOFFSETTO:+0200
TZNAME:CEST
DTSTART:20230326T010000
END:DAYLIGHT
BEGIN:STANDARD
TZOFFSETFROM:+0200
TZOFFSETTO:+0100
TZNAME:CET
DTSTART:20231029T010000
END:STANDARD
BEGIN:DAYLIGHT
TZOFFSETFROM:+0100
TZOFFSETTO:+0200
TZNAME:CEST
DTSTART:20240331T010000
END:DAYLIGHT
BEGIN:STANDARD
TZOFFSETFROM:+0200
TZOFFSETTO:+0100
TZNAME:CET
DTSTART:20241027T010000
END:STANDARD
BEGIN:DAYLIGHT
TZOFFSETFROM:+0100
TZOFFSETTO:+0200
TZNAME:CEST
DTSTART:20250330T010000
END:DAYLIGHT
BEGIN:STANDARD
TZOFFSETFROM:+0200
TZOFFSETTO:+0100
TZNAME:CET
DTSTART:20251026T010000
END:STANDARD
BEGIN:DAYLIGHT
TZOFFSETFROM:+0100
TZOFFSETTO:+0200
TZNAME:CEST
DTSTART:20260329T010000
END:DAYLIGHT
BEGIN:STANDARD
TZOFFSETFROM:+0200
TZOFFSETTO:+0100
TZNAME:CET
DTSTART:20261025T010000
END:STANDARD
BEGIN:DAYLIGHT
TZOFFSETFROM:+0100
TZOFFSETTO:+0200
TZNAME:CEST
DTSTART:20270328T010000
END:DAYLIGHT
BEGIN:STANDARD
TZOFFSETFROM:+0200
TZOFFSETTO:+0100
TZNAME:CET
DTSTART:20271031T010000
END:STANDARD
END:VTIMEZONE
BEGIN:VEVENT
DTSTART;TZID=Europe/Paris:20260308T153000
DTEND;TZID=Europe/Paris:20260308T153000
DTSTAMP:20260420T102914
CREATED:20140119T140709Z
LAST-MODIFIED:20260227T090321Z
UID:372-1772983800-1772983800@bysylvierabou.com
SUMMARY:"Défilé de mode au Chateau Lestrille" ARTIGUES
DESCRIPTION:Sylvie RABOU\, créatrice de mode vous invite à venir découvrir sa dernière collection lors d’ un défilé de mode. A cette occasion\, vous pourrez découvrir des créations uniques. N’hésitez pas à en parler à vos amies et à vos proches : je vous attends ! \nEntrée gratuite\, ouverture au public à 15h30. \nDéfilé à 16h00 suivi d’une vente privée. \n  \n \nIndication d’accès : en direction de Brico Dépôt\, prendre l’avenue de Lestrille en face de Saint Maclou. \n 
URL:https://bysylvierabou.com/event/defile-de-mode/
LOCATION:Château LESTRILLE\, 8 Allée de Diane\, Artigues Près Bordeaux\, 33370\, France
END:VEVENT
BEGIN:VEVENT
DTSTART;VALUE=DATE:20251220
DTEND;VALUE=DATE:20251222
DTSTAMP:20260420T102914
CREATED:20151115T102851Z
LAST-MODIFIED:20251019T174901Z
UID:549-1766188800-1766361599@bysylvierabou.com
SUMMARY:"Marché de Noël à Saint-Emilion"
DESCRIPTION:Je vous invite à venir me retrouver dans la salle des Dominicains afin de découvrir ma collection 2025/2026 ainsi que de nouvelles créations. Venez dénicher des idées cadeaux pour vous et pour vos proches pour égayer ces fêtes de fin d’année. \nOuverture au public : 10h à 19h le samedi et de 10h à 18h le dimanche \n  \n 
URL:https://bysylvierabou.com/event/noel-a-saint-emilion/
LOCATION:Salle des dominincains\, 4 Rue Guadet\, Saint-Émilion\, 33330\, France
END:VEVENT
BEGIN:VEVENT
DTSTART;VALUE=DATE:20251212
DTEND;VALUE=DATE:20251215
DTSTAMP:20260420T102914
CREATED:20251019T175304Z
LAST-MODIFIED:20251213T084723Z
UID:1016-1765497600-1765756799@bysylvierabou.com
SUMMARY:"Marche de Noël"\, BRUGES
DESCRIPTION:Venez me retrouver pendant le marché de Noël de Bruges pour vos cadeaux de fin d’année. \nDu vendredi 12 décembre 2025 de 15h00 à 20h00 au dimanche 14 décembre 2025 de 10h00 à 20h00. \nNombreux stands et nombreuses animations durant la journée. \n 
URL:https://bysylvierabou.com/event/marche-de-noel-bruges/
LOCATION:esplanade hôtel de ville\, BRUGES\, 33520\, France
END:VEVENT
BEGIN:VEVENT
DTSTART;VALUE=DATE:20251206
DTEND;VALUE=DATE:20251208
DTSTAMP:20260420T102914
CREATED:20241118T205023Z
LAST-MODIFIED:20251030T160138Z
UID:973-1764979200-1765151999@bysylvierabou.com
SUMMARY:Marché de Noel "Bayon sur Gironde"
DESCRIPTION:Venez découvrir ma collection de 10h00 à 1900 le samedi et le dimanche. Laissez-vous tenter pour vous-même ou pour vos proches\, les fêtes de fin d’année approchent…
URL:https://bysylvierabou.com/event/marche-de-noel-bayon-sur-gironde/
LOCATION:salle polyvalente de Bayon sur Gironde\, 4 Chemin de l Église\, Bayon-sur-Gironde\, 33710\, France
END:VEVENT
BEGIN:VEVENT
DTSTART;VALUE=DATE:20251130
DTEND;VALUE=DATE:20251201
DTSTAMP:20260420T102914
CREATED:20140909T185841Z
LAST-MODIFIED:20251019T174210Z
UID:486-1764460800-1764547199@bysylvierabou.com
SUMMARY:"Cré'Art" LE BARP
DESCRIPTION:Venez découvrir ma collection de 10h00 à 18h00 au centre culturel « Le Bateau Lyre » \nLaissez-vous tenter pour vous-même ou pour vos proches\, les fêtes de fin d’année approchent… \nEntrée gratuite
URL:https://bysylvierabou.com/event/creart-le-barp/
LOCATION:Le Bateau Lyre\, 73 A avenue de Gascogne\, LE BARP\, 33114
END:VEVENT
BEGIN:VEVENT
DTSTART;VALUE=DATE:20251115
DTEND;VALUE=DATE:20251117
DTSTAMP:20260420T102914
CREATED:20141001T193945Z
LAST-MODIFIED:20251019T174015Z
UID:507-1763164800-1763337599@bysylvierabou.com
SUMMARY:« Marché de Noël » Chateau de CAMARSAC
DESCRIPTION:Venez découvrir ma collection de 10h00 à 18h00 le samedi et le dimanche. Laissez-vous tenter pour vous-même ou pour vos proches\, les fêtes de fin d’année approchent… \n  \n  \n  \n30 route de Bergerac\, CAMARSAC\, 33750 France
URL:https://bysylvierabou.com/event/marche-de-noel-chateau-de-camarsac-2/
LOCATION:Chateau de Camarsac\,  rte Bergerac\, CAMARSAC\, 33750\, France
END:VEVENT
BEGIN:VEVENT
DTSTART;TZID=Europe/Paris:20250426T100000
DTEND;TZID=Europe/Paris:20250426T180000
DTSTAMP:20260420T102914
CREATED:20240415T123016Z
LAST-MODIFIED:20250320T211435Z
UID:964-1745661600-1745690400@bysylvierabou.com
SUMMARY:Exposition artisanale Chateau Lestrille ARTIGUES
DESCRIPTION:Venez découvrir mes dernières créations et ma nouvelle collection de 10h00 à 18h00 le samedi 26 avril au Chateau Lestrille\, 8 allée de Diane\, 33370 Artigues-près-Bordeaux \nEntrée gratuite \n  \n 
URL:https://bysylvierabou.com/event/exposition-artisanale-chateau-lestrille-artigues/
LOCATION:Chateau Lestrille Artigues\, 8 allée de Diane\, Artigues-près-Bordeaux\, France
END:VEVENT
BEGIN:VEVENT
DTSTART;VALUE=DATE:20241208
DTEND;VALUE=DATE:20241209
DTSTAMP:20260420T102914
CREATED:20241118T211907Z
LAST-MODIFIED:20241118T212123Z
UID:979-1733616000-1733702399@bysylvierabou.com
SUMMARY:Marché de Noël "ARES"
DESCRIPTION:Venez découvrir ma collection de 10h00 à 18h00 le dimanche. Laissez-vous tenter pour vous-même ou pour vos proches\, les fêtes de fin d’année approchent… \n \nEntrée gratuite
URL:https://bysylvierabou.com/event/marche-de-noel-ares/
LOCATION:Domaine des lugées\, Allée des lugées\, Ares\, 33740\, France
END:VEVENT
BEGIN:VEVENT
DTSTART;VALUE=DATE:20240413
DTEND;VALUE=DATE:20240415
DTSTAMP:20260420T102914
CREATED:20231030T221418Z
LAST-MODIFIED:20231209T143505Z
UID:943-1712966400-1713139199@bysylvierabou.com
SUMMARY:"Métiers d'art et artisanat" La Teste de Buch
DESCRIPTION:Entrée gratuite\, horaires : Samedi 13 Avril 2024 de 10h à 19h &  Dimanche 14 Avril 2023 de 10h à 19h
URL:https://bysylvierabou.com/event/salon-createurs-et-artisans-la-teste-de-buch/
LOCATION:parc des expositions de La Teste de Buch\, 940\, Avenue de l’Europe \, LA TESTE DE BUCH\, 33260\, France Métropolitaine
END:VEVENT
BEGIN:VEVENT
DTSTART;TZID=Europe/Paris:20240315T133000
DTEND;TZID=Europe/Paris:20240316T190000
DTSTAMP:20260420T102914
CREATED:20190211T213822Z
LAST-MODIFIED:20240228T210420Z
UID:741-1710509400-1710615600@bysylvierabou.com
SUMMARY:"Talents de femmes"\, PESSAC
DESCRIPTION:Venez me rejoindre au Salon de Créatrices à la salle Romy Schneider à Pessac les vendredi 15 mars 2024 de 13h30 à 19h00 et le samedi 16 mars de 10h00 à 19h00.
URL:https://bysylvierabou.com/event/talents-de-femmes-pessac/
LOCATION:Salle Romy Schneider\, Place de la 5ème république\, PESSAC\, 33600\, France
END:VEVENT
BEGIN:VEVENT
DTSTART;TZID=Europe/Paris:20221105T100000
DTEND;TZID=Europe/Paris:20221106T180000
DTSTAMP:20260420T102914
CREATED:20220912T102258Z
LAST-MODIFIED:20220912T102912Z
UID:891-1667642400-1667757600@bysylvierabou.com
SUMMARY:"Listr'Art Destination Médoc" LISTRAC-MEDOC
DESCRIPTION:Ouverture du samedi 5 et dimanche 6 Novembre de 10h à 18h\, entrée gratuite \nvenez me retrouver à la salle socio-culturelle de Listrac-Médoc
URL:https://bysylvierabou.com/event/listrart-destination-medoc-listrac-medoc/
LOCATION:salle socio culturelle
END:VEVENT
BEGIN:VEVENT
DTSTART;VALUE=DATE:20220923
DTEND;VALUE=DATE:20220926
DTSTAMP:20260420T102914
CREATED:20140909T190351Z
LAST-MODIFIED:20220912T102542Z
UID:489-1663891200-1664150399@bysylvierabou.com
SUMMARY:"Artisans d'Art"   SAINT-EMILION
DESCRIPTION:Ouverture du vendredi 23 de 14H00 à 19h00 et les samedi 24 et dimanche 25 de 10h00 à 19h00\, entrée gratuite \nvenez me retrouver à la SALLE DES DOMINICAINS\, 14 rue Guadet \n 
URL:https://bysylvierabou.com/event/artisans-dart-saint-emilion/
LOCATION:Salle des Dominicains\, 14 rue Guadet\, 33330 Saint Emilion
END:VEVENT
BEGIN:VEVENT
DTSTART;VALUE=DATE:20211113
DTEND;VALUE=DATE:20211115
DTSTAMP:20260420T102914
CREATED:20130908T193645Z
LAST-MODIFIED:20211103T180933Z
UID:360-1636761600-1636934399@bysylvierabou.com
SUMMARY:Expo Artisanale de Pugnac
DESCRIPTION:Venez me retrouver à la salle des fêtes de 10h00 à 18h00\, je vous proposerai mes nouvelles créations. \nSylvie
URL:https://bysylvierabou.com/event/expo-artisanale-de-pugnac/
LOCATION:salle des fêtes\, Pugnac\, 33710\, France Métropolitaine
END:VEVENT
BEGIN:VEVENT
DTSTART;VALUE=DATE:20201201
DTEND;VALUE=DATE:20220101
DTSTAMP:20260420T102914
CREATED:20200902T191737Z
LAST-MODIFIED:20201214T181344Z
UID:777-1606780800-1640995199@bysylvierabou.com
SUMMARY:Exposition permanente au "Passage 115"
DESCRIPTION:Venez découvrir quelques unes de mes créations en exposition permanente au « Passage 115 ». \nMartine vous y accueillera avec plaisir et vous pourrez aussi découvrir au sein de cet Atelier de création les œuvres d’une vingtaine d’artisans d’art et de créateurs dans des domaines variés tels que peinture\, sculpture\, créations textile\, bijoux\, tableaux\, photo… \n  \nPOUR VENIR au Passage115 : 115 avenue Anatole France\, 33110 LE Bouscat \n\nEn Tram: ligne D arrêt Mairie du Bouscat. Après 5 minutes de marche active rue Raymond Lavigne (rue en face de l’arrêt du tram)\, le Passage se trouve sur votre droite.\nEn bus: ligne33 arrêt lakanal  \nEn voiture  :GPS Passage115 le bouscat\n\n\nHORAIRES : \nMercredi\, Jeudi et Vendredi : 10:00 – 12:30 et  14:00 – 19:00 \nSamedi : 10:00 – 12:30 et exceptionnellement pendant les fêtes 14:00 – 19:00 \nDimanche\, Lundi et Mardi : Fermé
URL:https://bysylvierabou.com/event/exposition-permanente-au-passage-115/
END:VEVENT
BEGIN:VEVENT
DTSTART;VALUE=DATE:20200307
DTEND;VALUE=DATE:20200309
DTSTAMP:20260420T102914
CREATED:20160225T184424Z
LAST-MODIFIED:20200226T092208Z
UID:555-1583539200-1583711999@bysylvierabou.com
SUMMARY:"Forum Femmes créatives 2020" LA TESTE DE BUCH
DESCRIPTION:Venez me retrouver avec mes dernières créations\, les samedi 7 et dimanche 8 MARS 2020\,  de 10h00 à 19h00 au parc des expositions de « La Teste de Buch ». \nA noter : un espace braderie à -60% sur mes collections précédentes.\nEntrée libre\, restauration sur place \n 
URL:https://bysylvierabou.com/event/femmes-creatives-la-teste-de-buch/
END:VEVENT
BEGIN:VEVENT
DTSTART;TZID=Europe/Paris:20191026T100000
DTEND;TZID=Europe/Paris:20191027T180000
DTSTAMP:20260420T102914
CREATED:20171011T114948Z
LAST-MODIFIED:20190930T105859Z
UID:674-1572084000-1572199200@bysylvierabou.com
SUMMARY:Salon des métiers d'art\, ARES
DESCRIPTION:Venez découvrir de nombreux artisans d’art à l’occasion d’une exposition vente salle Brémontier à Arès du samedi 26 octobre de 10h00 à 19h00 au dimanche 27 octobre 10h00 à 18h00. \nA cette occasion vous pourrez aussi découvrir ma nouvelle collection et assister à deux défilés de mode (le samedi et le dimanche) où certaines de mes créations seront présentées.
URL:https://bysylvierabou.com/event/salon-des-metiers-dart-ares/
END:VEVENT
BEGIN:VEVENT
DTSTART;TZID=Europe/Paris:20190622T140000
DTEND;TZID=Europe/Paris:20190623T190000
DTSTAMP:20260420T102914
CREATED:20190519T135455Z
LAST-MODIFIED:20190519T135455Z
UID:751-1561212000-1561316400@bysylvierabou.com
SUMMARY:"Salon des Créateurs et du Bien vivre"\, MARANSIN
DESCRIPTION:Venez me retrouver à la salle des fêtes de Maransin les samedi 22 juin de 14h00 à 20h00 et dimanche 23 juin de 10h00 à 19h00.
URL:https://bysylvierabou.com/event/salon-des-createurs-et-du-bien-vivre-maransin/
LOCATION:Maransin\, salle des fêtes\, MARANSIN\, 33230\, France
END:VEVENT
BEGIN:VEVENT
DTSTART;TZID=Europe/Paris:20190511T103000
DTEND;TZID=Europe/Paris:20190512T190000
DTSTAMP:20260420T102914
CREATED:20180416T103012Z
LAST-MODIFIED:20190211T215214Z
UID:708-1557570600-1557687600@bysylvierabou.com
SUMMARY:"Salon Destock'art"\, CASSY / LANTON
DESCRIPTION:Qu’est ce que Destock’art ?\n \nDepuis 4 ans\, une 100e d’artisans d’art (peintres sur soie ou sur vitrail\, sculpteurs sur bois\, céramistes\, plasticiens\, créateurs de textiles\, créateurs de vêtements…) se retrouve au mois de mai à Lanton pour le salon Destock’art. Le but est de présenter une diversité de styles d’art en déstockant les fonds d’ateliers et de rapprocher les artistes émergeants ou reconnus\, du grand public\, à mi-chemin entre la galerie d’art et l’underground mais également de renforcer le réseau artistique du territoire. \nVenez me retrouver afin de découvrir mes dernières créations ainsi qu’un espace déstockage avec des supers prix ! \nCONDITIONS D’ACCES: ouverture au public samedi 11 et dimanche 12 mai de 10 h 30 à 19 h 00. \n 
URL:https://bysylvierabou.com/event/salon-destockart-cassy-lanton/
LOCATION:Salle Complexe Sportif CASSY\, avenue David De Vignerte\, LANTON\, 33138\, France
END:VEVENT
BEGIN:VEVENT
DTSTART;TZID=Europe/Paris:20180615T140000
DTEND;TZID=Europe/Paris:20180617T180000
DTSTAMP:20260420T102914
CREATED:20180513T101653Z
LAST-MODIFIED:20180513T103142Z
UID:714-1529071200-1529258400@bysylvierabou.com
SUMMARY:"3ème Salon des Métiers d'Art"\, RAUZAN
DESCRIPTION:Venez découvrir mes dernières créations les vendredi 15 de 14h00 à 21h00 et les samedi 16 et dimanche 17 JUIN 2018 de 10h00  à  18h00 lors du 3ème Salon des Métiers d’Art de Rauzan.
URL:https://bysylvierabou.com/event/3eme-salon-des-metiers-dart-rauzan/
LOCATION:CHAMPICO\, 4 rue du collège\, RAUZAN\, 33420\, France
END:VEVENT
BEGIN:VEVENT
DTSTART;VALUE=DATE:20171111
DTEND;VALUE=DATE:20171113
DTSTAMP:20260420T102914
CREATED:20171030T091946Z
LAST-MODIFIED:20171030T194349Z
UID:690-1510358400-1510531199@bysylvierabou.com
SUMMARY:"Salon d'automne" Château Dudon\, BARSAC
DESCRIPTION:Venez découvrir de nombreux artisans d’art et de gourmandise. Une occasion de venir découvrir ma dernière collection. \nHeures d’ouverture : samedi 11 novembre de 10h00 à 19h00 et dimanche 12 novembre de 10h00 à 18h00. \nPossibilité de restauration sur place. \n \n 
URL:https://bysylvierabou.com/event/salon-dautomne-chateau-dudon-barsac/
LOCATION:Château DUDON\, BARSAC\, 33720\, France Métropolitaine
END:VEVENT
BEGIN:VEVENT
DTSTART;TZID=Europe/Paris:20150516T140000
DTEND;TZID=Europe/Paris:20150517T190000
DTSTAMP:20260420T102914
CREATED:20150329T115532Z
LAST-MODIFIED:20150329T115712Z
UID:536-1431784800-1431889200@bysylvierabou.com
SUMMARY:"Le Printemps des Créateurs" au TAILLAN MEDOC
DESCRIPTION:Venez me retrouver dans le cadre magnifique et majestueux du Château du Taillan (La Dame Blanche) les 16 et 17 mai. \nde 14h00 à 19h00 le samedi et de 10h00 à 19h00 le dimanche. \n \n  \n  \n 
URL:https://bysylvierabou.com/event/le-printemps-des-createurs-au-taillan-medoc/
LOCATION:Chateau La Dame Blanche\, 56 avenue de la Croix\, Le Taillan Médoc\, 33320\, France Métropolitaine
END:VEVENT
BEGIN:VEVENT
DTSTART;VALUE=DATE:20141108
DTEND;VALUE=DATE:20141110
DTSTAMP:20260420T102914
CREATED:20141103T193459Z
LAST-MODIFIED:20141103T193459Z
UID:518-1415404800-1415577599@bysylvierabou.com
SUMMARY:8ème "Vide dressing" BEGLES
DESCRIPTION:Rendez-vous Girly sur 2 jours \n60 exposants créateurs Bordelais et particuliers \nA cette occasion\, venez découvrir ma nouvelle collection mais aussi des pièces de la collection précédente soldées à 50%. \nSamedi 8 novembre de 12h30 à 20h00 et dimanche 9 novembre de 10h00 à 19h30.
URL:https://bysylvierabou.com/event/8eme-vide-dressing-begles/
LOCATION:Fabrique Pola\, 2 rue Marc Sangnier\, BEGLES\, 33130\, France Métropolitaine
END:VEVENT
BEGIN:VEVENT
DTSTART;TZID=Europe/Paris:20140419T100000
DTEND;TZID=Europe/Paris:20140419T190000
DTSTAMP:20260420T102914
CREATED:20140330T173458Z
LAST-MODIFIED:20140330T173458Z
UID:383-1397901600-1397934000@bysylvierabou.com
SUMMARY:"Marché des créateurs" PAREMPUYRE
DESCRIPTION:Espace Art’y show \nsamedi 19 avril de 10h00 à 19h00
URL:https://bysylvierabou.com/event/marche-des-createurs-parempuyre/
LOCATION:Espace Art’y Show\, Parempuyre\, 33290\, France
END:VEVENT
BEGIN:VEVENT
DTSTART;TZID=Europe/Paris:20131217T150000
DTEND;TZID=Europe/Paris:20131222T200000
DTSTAMP:20260420T102914
CREATED:20131105T193750Z
LAST-MODIFIED:20131105T194110Z
UID:367-1387292400-1387742400@bysylvierabou.com
SUMMARY:Marché de Noël de Bruges
DESCRIPTION:sur l’esplanade de l’hôtel de ville \n  \ndu mardi 17 au vendredi 20 de 15h00 à 20h00 \ndu samedi 21 au dimanche 22 de 08h00 à 20h00
URL:https://bysylvierabou.com/event/marche-de-noel-de-bruges/
LOCATION:esplanade hôtel de ville\, BRUGES\, 33520\, France
END:VEVENT
END:VCALENDAR